BEGIN:VCALENDAR
PRODID:+//IDN nexans.com//NONSGML Paris Air show - le Bourget //EN
VERSION:2.0
BEGIN:VEVENT
DTSTAMP:20260420T090706Z
SUMMARY:Paris Air show - le Bourget 
UID:7607e7e9-a09e-40d4-a20f-e19ae176d05e
DTSTART;VALUE=DATE:20250616
DTEND;VALUE=DATE:20250623
LOCATION:Parc des Expositions de Paris Le Bourget  - Aéroport Paris-le Bo
 urget \, 93350 Le Bourget\, France
END:VEVENT
END:VCALENDAR
